BEGIN:VCALENDAR
VERSION:2.0
CALSCALE:GREGORIAN
PRODID:-//Diputació de Barcelona//DibaCMS//EN
BEGIN:VEVENT
UID:3361
DTSTAMP:20260423T125047
DTSTART:20170924T190000
DTEND:20170924T190000
SUMMARY:STOPiFLY amb... BRIAN CAFFREY
LOCATION:C/Josep Fornell s/n  08231 Ullastrell
METHOD:PUBLISH
X-WR-CALNAME:ullastrell@ullastrell.cat
X-WR-TIMEZONE:Europe/Madrid
DESCRIPTION:Vine al Casal a gaudir de la música de Brian Caffrey, cantant irlandès de música folk i rock acústic. 

URI:https://www.ullastrell.cat/actualitat/agenda/stopifly-amb-brian-caffrey.html
CLASS:PUBLIC
END:VEVENT
END:VCALENDAR
