BEGIN:VCALENDAR
VERSION:2.0
CALSCALE:GREGORIAN
PRODID:-//Diputació de Barcelona//DibaCMS//EN
BEGIN:VEVENT
UID:3366
DTSTAMP:20260423T130348
DTSTART:20171001T080000
DTEND:20171001T200000
SUMMARY:Activitats d'acompanyament al Referèndum
LOCATION:
METHOD:PUBLISH
X-WR-CALNAME:ullastrell@ullastrell.cat
X-WR-TIMEZONE:Europe/Madrid
DESCRIPTION:Defensem el dret a decidir amb activitats lúdiques al carrer Serra mentre duri l'horari de la votació del referèndum.

Participa-hi!

URI:https://www.ullastrell.cat/actualitat/agenda/activitats-dacompanyament-al-referendum.html
CLASS:PUBLIC
END:VEVENT
END:VCALENDAR
