BEGIN:VCALENDAR
VERSION:2.0
CALSCALE:GREGORIAN
PRODID:-//Diputació de Barcelona//DibaCMS//EN
BEGIN:VEVENT
UID:3368
DTSTAMP:20260423T170846
DTSTART:20171025T080000
DTEND:20171025T080000
SUMMARY:Excursió de La Colla de la Gent Gran
LOCATION:
METHOD:PUBLISH
X-WR-CALNAME:ullastrell@ullastrell.cat
X-WR-TIMEZONE:Europe/Madrid
DESCRIPTION:Visita a Castell de Púbol, Fundació Gala - Salvador Dalí a Figueres

URI:https://www.ullastrell.cat/actualitat/agenda/excursio-de-la-colla-de-la-gent-gran.html
CLASS:PUBLIC
END:VEVENT
END:VCALENDAR
