BEGIN:VCALENDAR
VERSION:2.0
CALSCALE:GREGORIAN
PRODID:-//Diputació de Barcelona//DibaCMS//EN
BEGIN:VEVENT
UID:3369
DTSTAMP:20260423T081114
DTSTART:20171026T160000
DTEND:20171026T160000
SUMMARY:XERRADA - La Colla de la Gent Gran
LOCATION:C/ Josep Fornell, s/n 08231 Ullastrell
METHOD:PUBLISH
X-WR-CALNAME:ullastrell@ullastrell.cat
X-WR-TIMEZONE:Europe/Madrid
DESCRIPTION:Xerrada a càrrec del Dr. Jordi Casals, metge traumatòleg

Horari a confirmar.

URI:https://www.ullastrell.cat/actualitat/agenda/xerrada-la-colla-de-la-gent-gran.html
CLASS:PUBLIC
END:VEVENT
END:VCALENDAR
