BEGIN:VCALENDAR
VERSION:2.0
CALSCALE:GREGORIAN
PRODID:-//Diputació de Barcelona//DibaCMS//EN
BEGIN:VEVENT
UID:3374
DTSTAMP:20260423T111613
DTSTART:20171006T200000
DTEND:20171006T200000
SUMMARY:XERRADA - I ara què? amb Vicent Partal
LOCATION:C/ Josep Fornell, s/n 08231 Ullastrell
METHOD:PUBLISH
X-WR-CALNAME:ullastrell@ullastrell.cat
X-WR-TIMEZONE:Europe/Madrid
DESCRIPTION:Us convidem a aquesta xerrada amb Vicent Partal, periodista i director de VilaWeb, un dels principals portals de notícies per internet en català. Ens farà un acurat anàlisi de la situació en que estem i els possibles esdeveniments immediats.

A la Sala d'Exposicions del Casal

 

URI:https://www.ullastrell.cat/actualitat/agenda/xerrada-i-ara-que-amb-vicent-partal.html
CLASS:PUBLIC
END:VEVENT
END:VCALENDAR
