BEGIN:VCALENDAR
VERSION:2.0
CALSCALE:GREGORIAN
PRODID:-//Diputació de Barcelona//DibaCMS//EN
BEGIN:VEVENT
UID:3375
DTSTAMP:20260423T125123
DTSTART:20171011T173000
DTEND:20171011T173000
SUMMARY:Conte va, conte ve,...SOTA LES SABATES
LOCATION:C/ Josep Fornell, s/n 08231 Ullastrell
METHOD:PUBLISH
X-WR-CALNAME:ullastrell@ullastrell.cat
X-WR-TIMEZONE:Europe/Madrid
DESCRIPTION:Vine escoltar aquest conte de mà de l'Ada Cusidó

 

URI:https://www.ullastrell.cat/actualitat/agenda/conte-va-conte-vesota-les-sabates.html
CLASS:PUBLIC
END:VEVENT
END:VCALENDAR
