BEGIN:VCALENDAR
VERSION:2.0
CALSCALE:GREGORIAN
PRODID:-//Diputació de Barcelona//DibaCMS//EN
BEGIN:VEVENT
UID:3376
DTSTAMP:20260423T141005
DTSTART:20171022T190000
DTEND:20171022T190000
SUMMARY:Stopifly - BOXETS
LOCATION:C/Josep Fornell s/n  08231 Ullastrell
METHOD:PUBLISH
X-WR-CALNAME:ullastrell@ullastrell.cat
X-WR-TIMEZONE:Europe/Madrid
DESCRIPTION:T'esperem al concert del grup de rock BOXETS, format per 7 músics i cantants.

URI:https://www.ullastrell.cat/actualitat/agenda/stopifly-boxets.html
CLASS:PUBLIC
END:VEVENT
END:VCALENDAR
