BEGIN:VCALENDAR
VERSION:2.0
CALSCALE:GREGORIAN
PRODID:-//Diputació de Barcelona//DibaCMS//EN
BEGIN:VEVENT
UID:3378
DTSTAMP:20260423T134217
DTSTART:20171018T200000
DTEND:20171018T200000
SUMMARY:Ple Ordinari 
LOCATION:C/ Serra, 17 08231 Ullastrell
METHOD:PUBLISH
X-WR-CALNAME:ullastrell@ullastrell.cat
X-WR-TIMEZONE:Europe/Madrid
DESCRIPTION:Consulta l'ordre del dia a l'anunci adjunt

URI:https://www.ullastrell.cat/actualitat/agenda/3378-ple-ordinari-.html
CLASS:PUBLIC
END:VEVENT
END:VCALENDAR
