BEGIN:VCALENDAR
VERSION:2.0
CALSCALE:GREGORIAN
PRODID:-//Diputació de Barcelona//DibaCMS//EN
BEGIN:VEVENT
UID:3379
DTSTAMP:20260423T124827
DTSTART:20171011T203000
DTEND:20171011T213000
SUMMARY:REUNIÓ DE BARRI - La Serra
LOCATION:Plaça Lluís Companys 
METHOD:PUBLISH
X-WR-CALNAME:ullastrell@ullastrell.cat
X-WR-TIMEZONE:Europe/Madrid
DESCRIPTION:Amb la voluntat d’escoltar de prop les diferents opinions dels veïns, propostes, crítiques, idees, suggerències, queixes,... El Govern municipal va engegar les “Reunions de Barri”.

URI:https://www.ullastrell.cat/actualitat/agenda/3379-reunio-de-barri-la-serra.html
CLASS:PUBLIC
END:VEVENT
END:VCALENDAR
