BEGIN:VCALENDAR
VERSION:2.0
CALSCALE:GREGORIAN
PRODID:-//Diputació de Barcelona//DibaCMS//EN
BEGIN:VEVENT
UID:3380
DTSTAMP:20260423T171313
DTSTART:20171007T090000
DTEND:20171007T133000
SUMMARY:Deixalleria mòbil
LOCATION:
METHOD:PUBLISH
X-WR-CALNAME:ullastrell@ullastrell.cat
X-WR-TIMEZONE:Europe/Madrid
DESCRIPTION:La deixalleria mòbil és un servei gratuït que s'ofereix cada primer dissabte de mes, on la gent pot anar en els llocs esmentats i un camió recull tots aquells materials que no es poden dipositar en els contenidor habituals, tals com, pintures, vernissos, esprais, radiografies, olis de cotxe i de cuina, petits electrodomèstics, ferralla informàtica etc.

URI:https://www.ullastrell.cat/actualitat/agenda/3380-deixalleria-mobil.html
CLASS:PUBLIC
END:VEVENT
END:VCALENDAR
