BEGIN:VCALENDAR
VERSION:2.0
CALSCALE:GREGORIAN
PRODID:-//Diputació de Barcelona//DibaCMS//EN
BEGIN:VEVENT
UID:3381
DTSTAMP:20260423T183219
DTSTART:20171018T190000
DTEND:20171018T200000
SUMMARY:Autoestima i adolescència
LOCATION:IES de Viladecavalls 
METHOD:PUBLISH
X-WR-CALNAME:ullastrell@ullastrell.cat
X-WR-TIMEZONE:Europe/Madrid
DESCRIPTION:19h biblioteca de l'IES Viladecavalls

URI:https://www.ullastrell.cat/actualitat/agenda/3381-autoestima-i-adolescencia.html
CLASS:PUBLIC
END:VEVENT
END:VCALENDAR
