BEGIN:VCALENDAR
VERSION:2.0
CALSCALE:GREGORIAN
PRODID:-//Diputació de Barcelona//DibaCMS//EN
BEGIN:VEVENT
UID:3382
DTSTAMP:20260423T200950
DTSTART:20171007T103000
DTEND:20171008T180000
SUMMARY:Fira del món geganter - Vacarisses/Rellinars/Ullastrell
LOCATION:Tots els actes es realitzen a Vacarisses 
METHOD:PUBLISH
X-WR-CALNAME:ullastrell@ullastrell.cat
X-WR-TIMEZONE:Europe/Madrid
DESCRIPTION:La Colla de geganters d'Ullastrell organitzen conjuntament amb els de Vacarisses i Rellinars aquesta Fira del Món geganter.

URI:https://www.ullastrell.cat/actualitat/agenda/fira-del-mon-geganter-vacarissesrellinarsullastrell.html
CLASS:PUBLIC
END:VEVENT
END:VCALENDAR
