BEGIN:VCALENDAR
VERSION:2.0
CALSCALE:GREGORIAN
PRODID:-//Diputació de Barcelona//DibaCMS//EN
BEGIN:VEVENT
UID:3383
DTSTAMP:20260423T095253
DTSTART:20171016T170000
DTEND:20171016T190000
SUMMARY:Cafè pedagògic
LOCATION:
METHOD:PUBLISH
X-WR-CALNAME:ullastrell@ullastrell.cat
X-WR-TIMEZONE:Europe/Madrid
DESCRIPTION:A causa de l'actualitat social i política que estem vivint aquests dies, des de l'escola volem obrir un espai de diàleg i reflexió per compartir amb totes les famílies quin és el paper de l'escola i de casa en aquesta situació que ens toca tan d'aprop, i com podem entomar-ho conjuntament: família i escola.

URI:https://www.ullastrell.cat/actualitat/agenda/cafe-pedagogic.html
CLASS:PUBLIC
END:VEVENT
END:VCALENDAR
