BEGIN:VCALENDAR
VERSION:2.0
CALSCALE:GREGORIAN
PRODID:-//Diputació de Barcelona//DibaCMS//EN
BEGIN:VEVENT
UID:3384
DTSTAMP:20260423T140929
DTSTART:20171015T183000
DTEND:20171015T190000
SUMMARY:Homenatge a Lluís Companys
LOCATION:Plaça Lluís Companys 
METHOD:PUBLISH
X-WR-CALNAME:ullastrell@ullastrell.cat
X-WR-TIMEZONE:Europe/Madrid
DESCRIPTION:Acte en memòria del President de la Generalitat de Catalunya, afussellat l'any 1940.

URI:https://www.ullastrell.cat/actualitat/agenda/3384-homenatge-a-lluis-companys.html
CLASS:PUBLIC
END:VEVENT
END:VCALENDAR
