BEGIN:VCALENDAR
VERSION:2.0
CALSCALE:GREGORIAN
PRODID:-//Diputació de Barcelona//DibaCMS//EN
BEGIN:VEVENT
UID:3388
DTSTAMP:20260423T170652
DTSTART:20171023T170000
DTEND:20171023T183000
SUMMARY:ULLASTETA - PintaTeta
LOCATION:Plaça de les Escoles 
METHOD:PUBLISH
X-WR-CALNAME:ullastrell@ullastrell.cat
X-WR-TIMEZONE:Europe/Madrid
DESCRIPTION:Activitat dins la setmana de la lactància materna que celebrem a Ullastrell, dirigida a nens i nenes.

URI:https://www.ullastrell.cat/actualitat/agenda/ullasteta-pintateta.html
CLASS:PUBLIC
END:VEVENT
END:VCALENDAR
