BEGIN:VCALENDAR
VERSION:2.0
CALSCALE:GREGORIAN
PRODID:-//Diputació de Barcelona//DibaCMS//EN
BEGIN:VEVENT
UID:3389
DTSTAMP:20260423T131115
DTSTART:20171025T183000
DTEND:20171025T193000
SUMMARY:ULLASTETA - Xerrada amb la Dra. Glòria Jalencas
LOCATION:C/ Josep Fornell, s/n 08231 Ullastrell
METHOD:PUBLISH
X-WR-CALNAME:ullastrell@ullastrell.cat
X-WR-TIMEZONE:Europe/Madrid
DESCRIPTION:Activitat dins la setmana de la lactància materna que celebrem a Ullastrell.

"Lactància materna; generalitats, instauració i beneficis"

URI:https://www.ullastrell.cat/actualitat/agenda/ullasteta-xerrada-amb-la-dra-gloria-jalencas.html
CLASS:PUBLIC
END:VEVENT
END:VCALENDAR
