BEGIN:VCALENDAR
VERSION:2.0
CALSCALE:GREGORIAN
PRODID:-//Diputació de Barcelona//DibaCMS//EN
BEGIN:VEVENT
UID:3390
DTSTAMP:20260423T134120
DTSTART:20171027T190000
DTEND:20171027T203000
SUMMARY:ULLASTETA - Xerrada a càrrec de l'infermer pediàtric Armando Bastida
LOCATION:C/ Josep Fornell, s/n 08231 Ullastrell
METHOD:PUBLISH
X-WR-CALNAME:ullastrell@ullastrell.cat
X-WR-TIMEZONE:Europe/Madrid
DESCRIPTION:Activitat dins la setmana de la lactància materna que celebrem a Ullastrell

"El paper del pare a la lactància i la criança"

URI:https://www.ullastrell.cat/actualitat/agenda/ullasteta-xerrada-a-carrec-de-linfermer-pediatric-armando-bastida.html
CLASS:PUBLIC
END:VEVENT
END:VCALENDAR
