BEGIN:VCALENDAR
VERSION:2.0
CALSCALE:GREGORIAN
PRODID:-//Diputació de Barcelona//DibaCMS//EN
BEGIN:VEVENT
UID:3391
DTSTAMP:20260423T095201
DTSTART:20171027T203000
DTEND:20171027T230000
SUMMARY:ULLASTETA - Sopar de traje
LOCATION:C/ Josep Fornell, s/n 08231 Ullastrell
METHOD:PUBLISH
X-WR-CALNAME:ullastrell@ullastrell.cat
X-WR-TIMEZONE:Europe/Madrid
DESCRIPTION:Activitat dins la setmana de la lactància materna que celebrem a Ullastrell

Veniu tota la família a sopar portant un plat per compartir!

URI:https://www.ullastrell.cat/actualitat/agenda/ullasteta-sopar-de-traje.html
CLASS:PUBLIC
END:VEVENT
END:VCALENDAR
