BEGIN:VCALENDAR
VERSION:2.0
CALSCALE:GREGORIAN
PRODID:-//Diputació de Barcelona//DibaCMS//EN
BEGIN:VEVENT
UID:3395
DTSTAMP:20260423T143816
DTSTART:20171021T000000
DTEND:20171022T000000
SUMMARY:7ª PUJADA DOGA Sta. Maria Villalba-Ullastrell
LOCATION:Carretera d'Olesa 
METHOD:PUBLISH
X-WR-CALNAME:ullastrell@ullastrell.cat
X-WR-TIMEZONE:Europe/Madrid
DESCRIPTION:2n. Memorial Lluís Costa

URI:https://www.ullastrell.cat/actualitat/agenda/7a-pujada-doga-sta-maria-villalba-ullastrell.html
CLASS:PUBLIC
END:VEVENT
END:VCALENDAR
