BEGIN:VCALENDAR
VERSION:2.0
CALSCALE:GREGORIAN
PRODID:-//Diputació de Barcelona//DibaCMS//EN
BEGIN:VEVENT
UID:3403
DTSTAMP:20260423T125905
DTSTART:20171025T200000
DTEND:20171025T210000
SUMMARY:Ple extraordinari urgent
LOCATION:
METHOD:PUBLISH
X-WR-CALNAME:ullastrell@ullastrell.cat
X-WR-TIMEZONE:Europe/Madrid
DESCRIPTION:20:00h. Sala de plesns de l'Ajuntament

URI:https://www.ullastrell.cat/actualitat/agenda/3403-ple-extraordinari-urgent.html
CLASS:PUBLIC
END:VEVENT
END:VCALENDAR
