BEGIN:VCALENDAR
VERSION:2.0
CALSCALE:GREGORIAN
PRODID:-//Diputació de Barcelona//DibaCMS//EN
BEGIN:VEVENT
UID:3405
DTSTAMP:20260423T143203
DTSTART:20171028T110000
DTEND:20171028T120000
SUMMARY:ULLASTETA - MAMI-FIT gimnàs per mamis&bebes
LOCATION:Gimnàs escola vella (Pl. Escoles) 
METHOD:PUBLISH
X-WR-CALNAME:ullastrell@ullastrell.cat
X-WR-TIMEZONE:Europe/Madrid
DESCRIPTION:Activitat dins la setmana de la lactància materna que celebrem a Ullastrell

Sessió de gimnàs per mamis amb els seus fills i filles!!

URI:https://www.ullastrell.cat/actualitat/agenda/ullasteta-mami-fit-gimnas-per-mamisandbebes.html
CLASS:PUBLIC
END:VEVENT
END:VCALENDAR
