BEGIN:VCALENDAR
VERSION:2.0
CALSCALE:GREGORIAN
PRODID:-//Diputació de Barcelona//DibaCMS//EN
BEGIN:VEVENT
UID:3406
DTSTAMP:20260423T111535
DTSTART:20171028T120000
DTEND:20171028T130000
SUMMARY:ULLASTETA - Espectacle infantil amb Jaume Ibars
LOCATION:Davant de l'Ajuntament 
METHOD:PUBLISH
X-WR-CALNAME:ullastrell@ullastrell.cat
X-WR-TIMEZONE:Europe/Madrid
DESCRIPTION:Activitat dins la setmana de la lactància materna que celebrem a Ullastrell

Fi de festa de la Setmana Lactància #Ullasteta2017

Obert a tots els nens i nenes de totes les edats!!

URI:https://www.ullastrell.cat/actualitat/agenda/ullasteta-espectacle-infantil-amb-jaume-ibars.html
CLASS:PUBLIC
END:VEVENT
END:VCALENDAR
