BEGIN:VCALENDAR
VERSION:2.0
CALSCALE:GREGORIAN
PRODID:-//Diputació de Barcelona//DibaCMS//EN
BEGIN:VEVENT
UID:3407
DTSTAMP:20260423T065027
DTSTART:20171028T170000
DTEND:20171028T203000
SUMMARY:VINE A DONAR SANG
LOCATION:C/ Josep Fornell, s/n 08231 Ullastrell
METHOD:PUBLISH
X-WR-CALNAME:ullastrell@ullastrell.cat
X-WR-TIMEZONE:Europe/Madrid
DESCRIPTION:Donació de sang a favor de "Banc de Sang i Teixits"

URI:https://www.ullastrell.cat/actualitat/agenda/vine-a-donar-sang.html
CLASS:PUBLIC
END:VEVENT
END:VCALENDAR
