BEGIN:VCALENDAR
VERSION:2.0
CALSCALE:GREGORIAN
PRODID:-//Diputació de Barcelona//DibaCMS//EN
BEGIN:VEVENT
UID:3408
DTSTAMP:20260423T112829
DTSTART:20171029T000000
DTEND:20171029T000000
SUMMARY:Final de la Lliga Catalana TREC
LOCATION:Masia Cal Jaume Font
Hípica La Vinya 
METHOD:PUBLISH
X-WR-CALNAME:ullastrell@ullastrell.cat
X-WR-TIMEZONE:Europe/Madrid
DESCRIPTION:Competició eqüestre

URI:https://www.ullastrell.cat/actualitat/agenda/final-de-la-lliga-catalana-trec.html
CLASS:PUBLIC
END:VEVENT
END:VCALENDAR
