BEGIN:VCALENDAR
VERSION:2.0
CALSCALE:GREGORIAN
PRODID:-//Diputació de Barcelona//DibaCMS//EN
BEGIN:VEVENT
UID:3416
DTSTAMP:20260423T065053
DTSTART:20171112T183000
DTEND:20171112T200000
SUMMARY:CORAL ULLASTRELL - Concert a Castellbisbal
LOCATION:Casal Cultural de Castellbisbal
Avinguda Pau Casals, 7 - 08755 Castellbisbal - Barcelona  
METHOD:PUBLISH
X-WR-CALNAME:ullastrell@ullastrell.cat
X-WR-TIMEZONE:Europe/Madrid
DESCRIPTION: 

 

 

URI:https://www.ullastrell.cat/actualitat/agenda/coral-ullastrell-concert-a-castellbisbal.html
CLASS:PUBLIC
END:VEVENT
END:VCALENDAR
