BEGIN:VCALENDAR
VERSION:2.0
CALSCALE:GREGORIAN
PRODID:-//Diputació de Barcelona//DibaCMS//EN
BEGIN:VEVENT
UID:3419
DTSTAMP:20260423T164106
DTSTART:20171115T173000
DTEND:20171115T183000
SUMMARY:Conte va, conte ve... amb Jordina Biosca
LOCATION:C/ Josep Fornell, s/n 08231 Ullastrell
METHOD:PUBLISH
X-WR-CALNAME:ullastrell@ullastrell.cat
X-WR-TIMEZONE:Europe/Madrid
DESCRIPTION:Vine a escoltar els contes que cada mes ens porta la Biblioteca

URI:https://www.ullastrell.cat/actualitat/agenda/conte-va-conte-ve-amb-jordina-biosca.html
CLASS:PUBLIC
END:VEVENT
END:VCALENDAR
