BEGIN:VCALENDAR
VERSION:2.0
CALSCALE:GREGORIAN
PRODID:-//Diputació de Barcelona//DibaCMS//EN
BEGIN:VEVENT
UID:3421
DTSTAMP:20260423T171206
DTSTART:20171122T080000
DTEND:20171122T080000
SUMMARY:La Colla de la Gent Gran - EXCURSIÓ
LOCATION:
METHOD:PUBLISH
X-WR-CALNAME:ullastrell@ullastrell.cat
X-WR-TIMEZONE:Europe/Madrid
DESCRIPTION:Excursió mensual, lloc a determinar.

URI:https://www.ullastrell.cat/actualitat/agenda/la-colla-de-la-gent-gran-excursio.html
CLASS:PUBLIC
END:VEVENT
END:VCALENDAR
