BEGIN:VCALENDAR
VERSION:2.0
CALSCALE:GREGORIAN
PRODID:-//Diputació de Barcelona//DibaCMS//EN
BEGIN:VEVENT
UID:3429
DTSTAMP:20260422T233201
DTSTART:20171115T200000
DTEND:20171115T210000
SUMMARY:Ple extraordinari
LOCATION:
METHOD:PUBLISH
X-WR-CALNAME:ullastrell@ullastrell.cat
X-WR-TIMEZONE:Europe/Madrid
DESCRIPTION:Ple extraordinari 15 de novembre de 2017 a les 20:00h

URI:https://www.ullastrell.cat/actualitat/agenda/3429-ple-extraordinari.html
CLASS:PUBLIC
END:VEVENT
END:VCALENDAR
