BEGIN:VCALENDAR
VERSION:2.0
CALSCALE:GREGORIAN
PRODID:-//Diputació de Barcelona//DibaCMS//EN
BEGIN:VEVENT
UID:3435
DTSTAMP:20260423T065007
DTSTART:20171122T200000
DTEND:20171122T201000
SUMMARY:Ple extraordinari
LOCATION:C/ Serra, 17 08231 Ullastrell
METHOD:PUBLISH
X-WR-CALNAME:ullastrell@ullastrell.cat
X-WR-TIMEZONE:Europe/Madrid
DESCRIPTION:Sorteig per les meses de les eleccions del 21 de desembre 2017.

URI:https://www.ullastrell.cat/actualitat/agenda/3435-ple-extraordinari.html
CLASS:PUBLIC
END:VEVENT
END:VCALENDAR
