BEGIN:VCALENDAR
VERSION:2.0
CALSCALE:GREGORIAN
PRODID:-//Diputació de Barcelona//DibaCMS//EN
BEGIN:VEVENT
UID:3436
DTSTAMP:20260423T022701
DTSTART:20171119T183000
DTEND:20171119T200000
SUMMARY:29a MOSTRA DE TEATRE: Un esperit burleta
LOCATION:C/ Josep Fornell, s/n 08231 Ullastrell
METHOD:PUBLISH
X-WR-CALNAME:ullastrell@ullastrell.cat
X-WR-TIMEZONE:Europe/Madrid
DESCRIPTION:UN ESPERIT BURLETA

Adaptació de l'obra de Noel Coward

a càrrec de ATREZZO GRUP DE TEATRE de Vilafranca del Penedés

URI:https://www.ullastrell.cat/actualitat/agenda/29a-mostra-de-teatre-un-esperit-burleta.html
CLASS:PUBLIC
END:VEVENT
END:VCALENDAR
