BEGIN:VCALENDAR
VERSION:2.0
CALSCALE:GREGORIAN
PRODID:-//Diputació de Barcelona//DibaCMS//EN
BEGIN:VEVENT
UID:3437
DTSTAMP:20260423T103250
DTSTART:20171216T110000
DTEND:20171217T140000
SUMMARY:Fira de Santa Llúcia
LOCATION:C/ Serra 37 08231 Ullastrell
METHOD:PUBLISH
X-WR-CALNAME:ullastrell@ullastrell.cat
X-WR-TIMEZONE:Europe/Madrid
DESCRIPTION:Fira d'articles nadalencs i altres variants.

Aquest any, excepcionalment per les obres del carrer, es farà dins l'Espai Cultural El Progrés.

L'horari serà:


	Dissabte d'11h. a 14h. i de 17h. a 20h.
	Diumenge d'11h. a 14h.


URI:https://www.ullastrell.cat/actualitat/agenda/3437-fira-de-santa-llucia.html
CLASS:PUBLIC
END:VEVENT
END:VCALENDAR
