BEGIN:VCALENDAR
VERSION:2.0
CALSCALE:GREGORIAN
PRODID:-//Diputació de Barcelona//DibaCMS//EN
BEGIN:VEVENT
UID:3442
DTSTAMP:20260423T000320
DTSTART:20180108T190000
DTEND:20180108T200000
SUMMARY:Cafè per la Memòria
LOCATION:C/ Josep Fornell, s/n 08231 Ullastrell
METHOD:PUBLISH
X-WR-CALNAME:ullastrell@ullastrell.cat
X-WR-TIMEZONE:Europe/Madrid
DESCRIPTION:Activitat organitzada per l'entitat Memòria d'Ullastrell (MoU)

Vine a fer un cafè i comparteix els teus records i els posarem en comú per no perdre la nostra història.

T'esperem!

URI:https://www.ullastrell.cat/actualitat/agenda/3442-cafe-per-la-memoria.html
CLASS:PUBLIC
END:VEVENT
END:VCALENDAR
