BEGIN:VCALENDAR
VERSION:2.0
CALSCALE:GREGORIAN
PRODID:-//Diputació de Barcelona//DibaCMS//EN
BEGIN:VEVENT
UID:3443
DTSTAMP:20260423T051209
DTSTART:20171217T110000
DTEND:20171217T140000
SUMMARY:ULLASTROC - Mercat d'Intercanvi i segona mà
LOCATION:C/ Serra 37 08231 Ullastrell
METHOD:PUBLISH
X-WR-CALNAME:ullastrell@ullastrell.cat
X-WR-TIMEZONE:Europe/Madrid
DESCRIPTION:El pròxim diumenge 17de desembre, es portarà a terme una nova edició de l'Ullastroc; mercat d'intercanvi i segonà ma.

Totes les persones que vulguin posar parada cal que ho solicitin via instància genèrica com a màxim fins el dijous 14 de desembre a l'Ajuntament.

URI:https://www.ullastrell.cat/actualitat/agenda/3443-ullastroc-mercat-dintercanvi-i-segona-ma.html
CLASS:PUBLIC
END:VEVENT
END:VCALENDAR
