BEGIN:VCALENDAR
VERSION:2.0
CALSCALE:GREGORIAN
PRODID:-//Diputació de Barcelona//DibaCMS//EN
BEGIN:VEVENT
UID:3444
DTSTAMP:20260423T081140
DTSTART:20171213T080000
DTEND:20171213T080000
SUMMARY:La Colla de la Gent Gran - Sortida de Nadal
LOCATION:
METHOD:PUBLISH
X-WR-CALNAME:ullastrell@ullastrell.cat
X-WR-TIMEZONE:Europe/Madrid
DESCRIPTION:Excursió sorpresa!!

URI:https://www.ullastrell.cat/actualitat/agenda/la-colla-de-la-gent-gran-sortida-de-nadal.html
CLASS:PUBLIC
END:VEVENT
END:VCALENDAR
