BEGIN:VCALENDAR
VERSION:2.0
CALSCALE:GREGORIAN
PRODID:-//Diputació de Barcelona//DibaCMS//EN
BEGIN:VEVENT
UID:3445
DTSTAMP:20260423T011217
DTSTART:20171221T090000
DTEND:20171221T200000
SUMMARY:Eleccions al Parlament de Catalunya
LOCATION:Plaça de les Escoles (gimnàs escola vella) 
METHOD:PUBLISH
X-WR-CALNAME:ullastrell@ullastrell.cat
X-WR-TIMEZONE:Europe/Madrid
DESCRIPTION:
URI:https://www.ullastrell.cat/actualitat/agenda/3445-eleccions-al-parlament-de-catalunya.html
CLASS:PUBLIC
END:VEVENT
END:VCALENDAR
