BEGIN:VCALENDAR
VERSION:2.0
CALSCALE:GREGORIAN
PRODID:-//Diputació de Barcelona//DibaCMS//EN
BEGIN:VEVENT
UID:3446
DTSTAMP:20260422T222539
DTSTART:20180105T190000
DTEND:20180105T190000
SUMMARY:Cavalcada SS.MM. Reis Mags de l'Orient
LOCATION:Davant Escola Serralavella 
METHOD:PUBLISH
X-WR-CALNAME:ullastrell@ullastrell.cat
X-WR-TIMEZONE:Europe/Madrid
DESCRIPTION:Vine a rebre a SS. MM. Els Reis Mags de l'Orient, i després podras donar-li la carta en persona!

URI:https://www.ullastrell.cat/actualitat/agenda/cavalcada-ssmm-reis-mags-de-lorient.html
CLASS:PUBLIC
END:VEVENT
END:VCALENDAR
