BEGIN:VCALENDAR
VERSION:2.0
CALSCALE:GREGORIAN
PRODID:-//Diputació de Barcelona//DibaCMS//EN
BEGIN:VEVENT
UID:3448
DTSTAMP:20260423T075221
DTSTART:20171203T183000
DTEND:20171203T200000
SUMMARY:29ª Mostra de Teatre: ESCAC DOBLE
LOCATION:C/ Josep Fornell, s/n 08231 Ullastrell
METHOD:PUBLISH
X-WR-CALNAME:ullastrell@ullastrell.cat
X-WR-TIMEZONE:Europe/Madrid
DESCRIPTION:El Grup Filagarsa de Molins de Rei ens vindrà a representar aquesta obra de teatre que forma part de la 29ª Mostra que organitza el GATU.

URI:https://www.ullastrell.cat/actualitat/agenda/29a-mostra-de-teatre-escac-doble.html
CLASS:PUBLIC
END:VEVENT
END:VCALENDAR
