BEGIN:VCALENDAR
VERSION:2.0
CALSCALE:GREGORIAN
PRODID:-//Diputació de Barcelona//DibaCMS//EN
BEGIN:VEVENT
UID:3452
DTSTAMP:20260423T035139
DTSTART:20171202T220000
DTEND:20171202T235900
SUMMARY:CONCERT:  Amphetamine Eaters + Disaster Jacks
LOCATION:Gimnàs Escola Vella 
METHOD:PUBLISH
X-WR-CALNAME:ullastrell@ullastrell.cat
X-WR-TIMEZONE:Europe/Madrid
DESCRIPTION:
Concert de música PunkRock

Org.: U-Sònica

URI:https://www.ullastrell.cat/actualitat/agenda/concert-amphetamine-eaters--disaster-jacks.html
CLASS:PUBLIC
END:VEVENT
END:VCALENDAR
