BEGIN:VCALENDAR
VERSION:2.0
CALSCALE:GREGORIAN
PRODID:-//Diputació de Barcelona//DibaCMS//EN
BEGIN:VEVENT
UID:3454
DTSTAMP:20260423T212333
DTSTART:20171220T170000
DTEND:20171220T180000
SUMMARY:Taller de Nadal a la Biblioteca
LOCATION:C/ Josep Fornell, s/n 08231 Ullastrell
METHOD:PUBLISH
X-WR-CALNAME:ullastrell@ullastrell.cat
X-WR-TIMEZONE:Europe/Madrid
DESCRIPTION:Vine a la biblioteca a fer postals de Nadal

...i seguidament, el sorteig de la panera!!

URI:https://www.ullastrell.cat/actualitat/agenda/taller-de-nadal-a-la-biblioteca.html
CLASS:PUBLIC
END:VEVENT
END:VCALENDAR
