BEGIN:VCALENDAR
VERSION:2.0
CALSCALE:GREGORIAN
PRODID:-//Diputació de Barcelona//DibaCMS//EN
BEGIN:VEVENT
UID:3455
DTSTAMP:20260423T172500
DTSTART:20171213T173000
DTEND:20171213T183000
SUMMARY:Conte va, conte ve,... amb Ingrid Domingo
LOCATION:C/ Josep Fornell, s/n 08231 Ullastrell
METHOD:PUBLISH
X-WR-CALNAME:ullastrell@ullastrell.cat
X-WR-TIMEZONE:Europe/Madrid
DESCRIPTION:"Contes d'amics"

URI:https://www.ullastrell.cat/actualitat/agenda/conte-va-conte-ve-amb-ingrid-domingo.html
CLASS:PUBLIC
END:VEVENT
END:VCALENDAR
