BEGIN:VCALENDAR
VERSION:2.0
CALSCALE:GREGORIAN
PRODID:-//Diputació de Barcelona//DibaCMS//EN
BEGIN:VEVENT
UID:3457
DTSTAMP:20260422T222726
DTSTART:20171226T190000
DTEND:20171226T210000
SUMMARY:Els Pastorets de Folch i Torres
LOCATION:C/ Josep Fornell, s/n 08231 Ullastrell
METHOD:PUBLISH
X-WR-CALNAME:ullastrell@ullastrell.cat
X-WR-TIMEZONE:Europe/Madrid
DESCRIPTION:Representació de l'obra teatral d'Els Pastorets de Folch i Torres a càrrec del GATU i la Coral d'Ullastrell.

Obra inclosa dins la 29ª Mostra de Teatre

URI:https://www.ullastrell.cat/actualitat/agenda/3457-els-pastorets-de-folch-i-torres.html
CLASS:PUBLIC
END:VEVENT
END:VCALENDAR
