BEGIN:VCALENDAR
VERSION:2.0
CALSCALE:GREGORIAN
PRODID:-//Diputació de Barcelona//DibaCMS//EN
BEGIN:VEVENT
UID:3463
DTSTAMP:20260423T010001
DTSTART:20171220T200000
DTEND:20171220T203000
SUMMARY:Ple extraordinari urgent
LOCATION:
METHOD:PUBLISH
X-WR-CALNAME:ullastrell@ullastrell.cat
X-WR-TIMEZONE:Europe/Madrid
DESCRIPTION:Ordre del dia:

URI:https://www.ullastrell.cat/actualitat/agenda/3463-ple-extraordinari-urgent.html
CLASS:PUBLIC
END:VEVENT
END:VCALENDAR
