BEGIN:VCALENDAR
VERSION:2.0
CALSCALE:GREGORIAN
PRODID:-//Diputació de Barcelona//DibaCMS//EN
BEGIN:VEVENT
UID:3464
DTSTAMP:20260423T012635
DTSTART:20171223T200000
DTEND:20171223T220000
SUMMARY:Inauguració - Els pessebres de Can Palet
LOCATION:C/ Serra 37 08231 Ullastrell
METHOD:PUBLISH
X-WR-CALNAME:ullastrell@ullastrell.cat
X-WR-TIMEZONE:Europe/Madrid
DESCRIPTION:Inauguració de l'exposició fotogràfica i poetica dels pessebres que cada any es poden veure a Can Palet.

URI:https://www.ullastrell.cat/actualitat/agenda/inauguracio-els-pessebres-de-can-palet.html
CLASS:PUBLIC
END:VEVENT
END:VCALENDAR
