BEGIN:VCALENDAR
VERSION:2.0
CALSCALE:GREGORIAN
PRODID:-//Diputació de Barcelona//DibaCMS//EN
BEGIN:VEVENT
UID:3467
DTSTAMP:20260422T222353
DTSTART:20171226T103000
DTEND:20171226T130000
SUMMARY:38ª Cursa del Bolet - 17è Memorial Robert Colilles
LOCATION:Sortida de la Pl. Lluís Companys 
METHOD:PUBLISH
X-WR-CALNAME:ullastrell@ullastrell.cat
X-WR-TIMEZONE:Europe/Madrid
DESCRIPTION:La tradicional de Sant Esteve!

 

URI:https://www.ullastrell.cat/actualitat/agenda/38a-cursa-del-bolet-17e-memorial-robert-colilles.html
CLASS:PUBLIC
END:VEVENT
END:VCALENDAR
