BEGIN:VCALENDAR
VERSION:2.0
CALSCALE:GREGORIAN
PRODID:-//Diputació de Barcelona//DibaCMS//EN
BEGIN:VEVENT
UID:3468
DTSTAMP:20260422T204238
DTSTART:20171223T213000
DTEND:20171223T213000
SUMMARY:QUINTO 
LOCATION:C/Josep Fornell s/n  08231 Ullastrell
METHOD:PUBLISH
X-WR-CALNAME:ullastrell@ullastrell.cat
X-WR-TIMEZONE:Europe/Madrid
DESCRIPTION:Joc tradicional de Nadal

URI:https://www.ullastrell.cat/actualitat/agenda/quinto-.html
CLASS:PUBLIC
END:VEVENT
END:VCALENDAR
