BEGIN:VCALENDAR
VERSION:2.0
CALSCALE:GREGORIAN
PRODID:-//Diputació de Barcelona//DibaCMS//EN
BEGIN:VEVENT
UID:3469
DTSTAMP:20260422T235510
DTSTART:20171225T220000
DTEND:20171225T220000
SUMMARY:QUINTO
LOCATION:
METHOD:PUBLISH
X-WR-CALNAME:ullastrell@ullastrell.cat
X-WR-TIMEZONE:Europe/Madrid
DESCRIPTION:
URI:https://www.ullastrell.cat/actualitat/agenda/3469-quinto.html
CLASS:PUBLIC
END:VEVENT
END:VCALENDAR
