BEGIN:VCALENDAR
VERSION:2.0
CALSCALE:GREGORIAN
PRODID:-//Diputació de Barcelona//DibaCMS//EN
BEGIN:VEVENT
UID:3472
DTSTAMP:20260423T000353
DTSTART:20171224T110000
DTEND:20171224T140000
SUMMARY:EXPOSICIÓ - Pessebres Can Palet
LOCATION:
METHOD:PUBLISH
X-WR-CALNAME:ullastrell@ullastrell.cat
X-WR-TIMEZONE:Europe/Madrid
DESCRIPTION:
URI:https://www.ullastrell.cat/actualitat/agenda/exposicio-pessebres-can-palet.html
CLASS:PUBLIC
END:VEVENT
END:VCALENDAR
