BEGIN:VCALENDAR
VERSION:2.0
CALSCALE:GREGORIAN
PRODID:-//Diputació de Barcelona//DibaCMS//EN
BEGIN:VEVENT
UID:3476
DTSTAMP:20260422T205726
DTSTART:20171230T213000
DTEND:20171230T213000
SUMMARY:QUINTO
LOCATION:C/Josep Fornell s/n  08231 Ullastrell
METHOD:PUBLISH
X-WR-CALNAME:ullastrell@ullastrell.cat
X-WR-TIMEZONE:Europe/Madrid
DESCRIPTION:Tradicional joc de Nadal!

URI:https://www.ullastrell.cat/actualitat/agenda/3476-quinto.html
CLASS:PUBLIC
END:VEVENT
END:VCALENDAR
