BEGIN:VCALENDAR
VERSION:2.0
CALSCALE:GREGORIAN
PRODID:-//Diputació de Barcelona//DibaCMS//EN
BEGIN:VEVENT
UID:3477
DTSTAMP:20260422T222009
DTSTART:20180101T190000
DTEND:20180101T190000
SUMMARY:QUINTO
LOCATION:C/Josep Fornell s/n  08231 Ullastrell
METHOD:PUBLISH
X-WR-CALNAME:ullastrell@ullastrell.cat
X-WR-TIMEZONE:Europe/Madrid
DESCRIPTION:Tradicional joc de Nadal!

URI:https://www.ullastrell.cat/actualitat/agenda/3477-quinto.html
CLASS:PUBLIC
END:VEVENT
END:VCALENDAR
