BEGIN:VCALENDAR
VERSION:2.0
CALSCALE:GREGORIAN
PRODID:-//Diputació de Barcelona//DibaCMS//EN
BEGIN:VEVENT
UID:3478
DTSTAMP:20260422T210255
DTSTART:20180106T220000
DTEND:20180106T220000
SUMMARY:QUINTO
LOCATION:C/Josep Fornell s/n  08231 Ullastrell
METHOD:PUBLISH
X-WR-CALNAME:ullastrell@ullastrell.cat
X-WR-TIMEZONE:Europe/Madrid
DESCRIPTION:Tradicional joc de Nadal!

URI:https://www.ullastrell.cat/actualitat/agenda/3478-quinto.html
CLASS:PUBLIC
END:VEVENT
END:VCALENDAR
